BEGIN:VCALENDAR
VERSION:2.0
PRODID:-//Académie Aurore - ECPv5.7.0//NONSGML v1.0//EN
CALSCALE:GREGORIAN
METHOD:PUBLISH
X-WR-CALNAME:Académie Aurore
X-ORIGINAL-URL:https://academieaurore.org
X-WR-CALDESC:évènements pour Académie Aurore
BEGIN:VTIMEZONE
TZID:UTC
BEGIN:STANDARD
TZOFFSETFROM:+0000
TZOFFSETTO:+0000
TZNAME:UTC
DTSTART:20230101T000000
END:STANDARD
END:VTIMEZONE
BEGIN:VEVENT
DTSTART;VALUE=DATE:20231130
DTEND;VALUE=DATE:20231204
DTSTAMP:20260422T041502
CREATED:20230617T204719Z
LAST-MODIFIED:20230913T114810Z
UID:1845-1701302400-1701647999@academieaurore.org
SUMMARY:Stage spécial Sagesse Martiale
DESCRIPTION:Stage spécial de Sagesse martiale les 1\,2 et 3 décembre (3 jours complets).\nDirigé par Pierre-Yves Albrecht à Saillon (Valais\, Suisse).\nArrivée le jeudi 30 novembre au soir (à partir de 20h). Fin du stage vers 16h le dimanche 3 décembre”.\n\nHébergement sur place au dojo. Ouvert à tous.\nContact et inscription : damien.le-berre@protonmail.com
URL:https://academieaurore.org/event/stage-special-sagesse-martiale/
CATEGORIES:Séminaires en Suisse
ATTACH;FMTTYPE=image/jpeg:https://academieaurore.org/wp-content/uploads/2023/06/Saillon-Int.jpg
END:VEVENT
END:VCALENDAR