BEGIN:VCALENDAR
VERSION:2.0
PRODID:-//Académie Aurore - ECPv5.7.0//NONSGML v1.0//EN
CALSCALE:GREGORIAN
METHOD:PUBLISH
X-WR-CALNAME:Académie Aurore
X-ORIGINAL-URL:https://academieaurore.org
X-WR-CALDESC:évènements pour Académie Aurore
BEGIN:VTIMEZONE
TZID:UTC
BEGIN:STANDARD
TZOFFSETFROM:+0000
TZOFFSETTO:+0000
TZNAME:UTC
DTSTART:20230101T000000
END:STANDARD
END:VTIMEZONE
BEGIN:VEVENT
DTSTART;VALUE=DATE:20230814
DTEND;VALUE=DATE:20230819
DTSTAMP:20260422T112922
CREATED:20230617T204131Z
LAST-MODIFIED:20230617T204131Z
UID:1839-1691971200-1692403199@academieaurore.org
SUMMARY:Stage archers
DESCRIPTION:De nouvelles candidatures ont permis d’envisager un nouveau stage pour la formation d’archers\, dans le Valais en Suisse. Contact et inscription : holikcariou@bluewin.ch
URL:https://academieaurore.org/event/stage-archers/
CATEGORIES:Séminaires en Suisse
ATTACH;FMTTYPE=image/png:https://academieaurore.org/wp-content/uploads/2022/06/archer.png
END:VEVENT
END:VCALENDAR